BEGIN:VCALENDAR
VERSION:2.0
PRODID:-//jEvents 2.0 for Joomla//EN
CALSCALE:GREGORIAN
METHOD:PUBLISH
BEGIN:VTIMEZONE
TZID:Europe/Amsterdam
BEGIN:STANDARD
DTSTART:20251026T020000
RDATE:20260329T030000
TZOFFSETFROM:+0200
TZOFFSETTO:+0100
TZNAME:Europe/Amsterdam CET
END:STANDARD
BEGIN:STANDARD
DTSTART:20261025T020000
RDATE:20270328T030000
TZOFFSETFROM:+0200
TZOFFSETTO:+0100
TZNAME:Europe/Amsterdam CET
END:STANDARD
BEGIN:STANDARD
DTSTART:20271031T020000
RDATE:20280326T030000
TZOFFSETFROM:+0200
TZOFFSETTO:+0100
TZNAME:Europe/Amsterdam CET
END:STANDARD
BEGIN:STANDARD
DTSTART:20281029T020000
RDATE:20290325T030000
TZOFFSETFROM:+0200
TZOFFSETTO:+0100
TZNAME:Europe/Amsterdam CET
END:STANDARD
BEGIN:STANDARD
DTSTART:20291028T020000
RDATE:20300331T030000
TZOFFSETFROM:+0200
TZOFFSETTO:+0100
TZNAME:Europe/Amsterdam CET
END:STANDARD
BEGIN:STANDARD
DTSTART:20301027T020000
RDATE:20310330T030000
TZOFFSETFROM:+0200
TZOFFSETTO:+0100
TZNAME:Europe/Amsterdam CET
END:STANDARD
BEGIN:STANDARD
DTSTART:20311026T020000
RDATE:20320328T030000
TZOFFSETFROM:+0200
TZOFFSETTO:+0100
TZNAME:Europe/Amsterdam CET
END:STANDARD
BEGIN:DAYLIGHT
DTSTART:20250423T000000
RDATE:20251026T020000
TZOFFSETFROM:+0100
TZOFFSETTO:+0200
TZNAME:Europe/Amsterdam CEST
END:DAYLIGHT
BEGIN:DAYLIGHT
DTSTART:20260329T030000
RDATE:20261025T020000
TZOFFSETFROM:+0100
TZOFFSETTO:+0200
TZNAME:Europe/Amsterdam CEST
END:DAYLIGHT
BEGIN:DAYLIGHT
DTSTART:20270328T030000
RDATE:20271031T020000
TZOFFSETFROM:+0100
TZOFFSETTO:+0200
TZNAME:Europe/Amsterdam CEST
END:DAYLIGHT
BEGIN:DAYLIGHT
DTSTART:20280326T030000
RDATE:20281029T020000
TZOFFSETFROM:+0100
TZOFFSETTO:+0200
TZNAME:Europe/Amsterdam CEST
END:DAYLIGHT
BEGIN:DAYLIGHT
DTSTART:20290325T030000
RDATE:20291028T020000
TZOFFSETFROM:+0100
TZOFFSETTO:+0200
TZNAME:Europe/Amsterdam CEST
END:DAYLIGHT
BEGIN:DAYLIGHT
DTSTART:20300331T030000
RDATE:20301027T020000
TZOFFSETFROM:+0100
TZOFFSETTO:+0200
TZNAME:Europe/Amsterdam CEST
END:DAYLIGHT
BEGIN:DAYLIGHT
DTSTART:20310330T030000
RDATE:20311026T020000
TZOFFSETFROM:+0100
TZOFFSETTO:+0200
TZNAME:Europe/Amsterdam CEST
END:DAYLIGHT
END:VTIMEZONE
BEGIN:VEVENT
UID:df775a8a-8fc9-4771-8562-6f9409497876
CATEGORIES:FHR
CREATED:20260106T100202
SUMMARY:SPA Summer Classic
LOCATION:Spa Francorchamps\, Belgien
DESCRIPTION:www.fhr-race.de http://www.fhr-race.de&gt; \nhttps://spasummerclassic.com/e
 n/ (https://spasummerclassic.com/en/)\nhttps://www.historicendurance.com/en
  (https://www.historicendurance.com/en)\nhttps://www.bravoracing.be/ (https
 ://www.bravoracing.be/)\nhttps://www.fastseventies.nl/en (https://www.fasts
 eventies.nl/en)\n \n \n \n 
X-ALT-DESC;FMTTYPE=text/html:www.fhr-race.de <<a href="http://www.fhr-race.de">http://www.fhr-race.de</a
 >> <br/><a href="https://spasummerclassic.com/en/">https://spasummerclassic
 .com/en/</a><br/><a href="https://www.historicendurance.com/en">https://www
 .historicendurance.com/en</a><br/><a href="https://www.bravoracing.be/">htt
 ps://www.bravoracing.be/</a><br/><a href="https://www.fastseventies.nl/en">
 https://www.fastseventies.nl/en</a><br/> <br/> <br/> <br/> 
DTSTAMP:20260424T173225
DTSTART;TZID=Europe/Amsterdam;VALUE=DATE:20260424
DTEND;TZID=Europe/Amsterdam;VALUE=DATE:20260427
SEQUENCE:0
TRANSP:OPAQUE
END:VEVENT
END:VCALENDAR